BEGIN:VCALENDAR
VERSION:2.0
PRODID:-//Bolton Hill - ECPv4.9.13//NONSGML v1.0//EN
CALSCALE:GREGORIAN
METHOD:PUBLISH
X-WR-CALNAME:Bolton Hill
X-ORIGINAL-URL:https://boltonhillmd.org
X-WR-CALDESC:Events for Bolton Hill
BEGIN:VTIMEZONE
TZID:America/New_York
BEGIN:DAYLIGHT
TZOFFSETFROM:-0500
TZOFFSETTO:-0400
TZNAME:EDT
DTSTART:20230312T070000
END:DAYLIGHT
BEGIN:STANDARD
TZOFFSETFROM:-0400
TZOFFSETTO:-0500
TZNAME:EST
DTSTART:20231105T060000
END:STANDARD
END:VTIMEZONE
BEGIN:VEVENT
DTSTART;TZID=America/New_York:20230402T140000
DTEND;TZID=America/New_York:20230402T160000
DTSTAMP:20260422T194440
CREATED:20230215T030009Z
LAST-MODIFIED:20230331T104357Z
UID:30879-1680444000-1680451200@boltonhillmd.org
SUMMARY:3rd Annual Plant and Garden Supply Swap
DESCRIPTION:*Rescheduling to Rain Date!\nSunday\, April 2\, 2pm-4pm \nIn preparation for spring\, bring your seeds\, cuttings\, plants\, or garden supplies to swap for something else. It’s a fun way to spruce up your gardening and meet neighbors at this free event. Drop by any time 2pm-4pm. RSVP at https://www.eventbrite.com/e/3rd-annual-plant-and-garden-supply-swap-tickets-547914857087 \nPublic Transit:\nJust 3 blocks from the Mount Royal Light Rail stop. \nParking:\nOn-street parking is available on Lafayette or Mosher Streets\, or Mount Royal Avenue\, Baltimore\, MD. There’s no parking in front of the park entrance. \nPhoto by Raw Pixel \n
URL:https://boltonhillmd.org/event/3rd-annual-plant-and-garden-supply-swap/
LOCATION:Rutter’s Mill Park\, Park between 1400 blocks of John and Mt. Royal\, Baltimore\, MD
ATTACH;FMTTYPE=image/jpeg:https://boltonhillmd.org/wp-content/uploads/2023/02/image-from-rawpixel-id-3799137-jpeg-scaled.jpg
GEO:39.3076069;-76.6308014
X-APPLE-STRUCTURED-LOCATION;VALUE=URI;X-ADDRESS=Rutter’s Mill Park Park between 1400 blocks of John and Mt. Royal Baltimore MD;X-APPLE-RADIUS=500;X-TITLE=Park between 1400 blocks of John and Mt. Royal:geo:-76.6308014,39.3076069
END:VEVENT
END:VCALENDAR