BEGIN:VCALENDAR
VERSION:2.0
PRODID:-//Bolton Hill - ECPv4.9.13//NONSGML v1.0//EN
CALSCALE:GREGORIAN
METHOD:PUBLISH
X-WR-CALNAME:Bolton Hill
X-ORIGINAL-URL:https://boltonhillmd.org
X-WR-CALDESC:Events for Bolton Hill
BEGIN:VTIMEZONE
TZID:America/New_York
BEGIN:DAYLIGHT
TZOFFSETFROM:-0500
TZOFFSETTO:-0400
TZNAME:EDT
DTSTART:20230312T070000
END:DAYLIGHT
BEGIN:STANDARD
TZOFFSETFROM:-0400
TZOFFSETTO:-0500
TZNAME:EST
DTSTART:20231105T060000
END:STANDARD
END:VTIMEZONE
BEGIN:VEVENT
DTSTART;TZID=America/New_York:20230831T183000
DTEND;TZID=America/New_York:20230831T200000
DTSTAMP:20260422T103321
CREATED:20230605T121721Z
LAST-MODIFIED:20230605T121721Z
UID:31273-1693506600-1693512000@boltonhillmd.org
SUMMARY:Arts in the Parks:  Mowder Oyal
DESCRIPTION:
URL:https://boltonhillmd.org/event/arts-in-the-parks-mowder-oyal/
LOCATION:Maple Leaf Park\, Bolton and Laurens Streets\, Baltimore\, MD\, 21217\, United States
ATTACH;FMTTYPE=image/jpeg:https://boltonhillmd.org/wp-content/uploads/2023/06/0032469693_21.jpg
END:VEVENT
END:VCALENDAR