BEGIN:VCALENDAR
VERSION:2.0
PRODID:-//Bolton Hill - ECPv4.9.13//NONSGML v1.0//EN
CALSCALE:GREGORIAN
METHOD:PUBLISH
X-WR-CALNAME:Bolton Hill
X-ORIGINAL-URL:https://boltonhillmd.org
X-WR-CALDESC:Events for Bolton Hill
BEGIN:VTIMEZONE
TZID:America/New_York
BEGIN:DAYLIGHT
TZOFFSETFROM:-0500
TZOFFSETTO:-0400
TZNAME:EDT
DTSTART:20260308T070000
END:DAYLIGHT
BEGIN:STANDARD
TZOFFSETFROM:-0400
TZOFFSETTO:-0500
TZNAME:EST
DTSTART:20261101T060000
END:STANDARD
END:VTIMEZONE
BEGIN:VEVENT
DTSTART;TZID=America/New_York:20260520T180000
DTEND;TZID=America/New_York:20260520T193000
DTSTAMP:20260422T153151
CREATED:20260422T020706Z
LAST-MODIFIED:20260422T020706Z
UID:35552-1779300000-1779305400@boltonhillmd.org
SUMMARY:Baltimore Internet and Tech Town Hall
DESCRIPTION:How can Baltimore better support affordable internet service? What should the City focus on when it comes to technology and AI. \nThese sessions are designed for real input\, not just updates. You’ll have the chance to speak directly with City staff and take part in live polling. \nWe’ll also cover: \n\nTips on how to compare internet plans and find options that work for you\nUpdates on City programs\, including the municipal ID\n\nFree food and giveaways will be provided. \n
URL:https://boltonhillmd.org/event/baltimore-internet-and-tech-town-hall/
LOCATION:Baltimore Unity Hall\, 1505 Eutaw Place\, Baltimore\, MD\, 21217\, United States
ATTACH;FMTTYPE=image/png:https://boltonhillmd.org/wp-content/uploads/2026/04/Screen-Shot-2026-04-21-at-10.06.42-PM.png
GEO:39.3059886;-76.6279979
X-APPLE-STRUCTURED-LOCATION;VALUE=URI;X-ADDRESS=Baltimore Unity Hall 1505 Eutaw Place Baltimore MD 21217 United States;X-APPLE-RADIUS=500;X-TITLE=1505 Eutaw Place:geo:-76.6279979,39.3059886
END:VEVENT
END:VCALENDAR