BEGIN:VCALENDAR
VERSION:2.0
PRODID:-//Bolton Hill - ECPv4.9.13//NONSGML v1.0//EN
CALSCALE:GREGORIAN
METHOD:PUBLISH
X-WR-CALNAME:Bolton Hill
X-ORIGINAL-URL:https://boltonhillmd.org
X-WR-CALDESC:Events for Bolton Hill
BEGIN:VTIMEZONE
TZID:America/New_York
BEGIN:DAYLIGHT
TZOFFSETFROM:-0500
TZOFFSETTO:-0400
TZNAME:EDT
DTSTART:20200308T070000
END:DAYLIGHT
BEGIN:STANDARD
TZOFFSETFROM:-0400
TZOFFSETTO:-0500
TZNAME:EST
DTSTART:20201101T060000
END:STANDARD
END:VTIMEZONE
BEGIN:VEVENT
DTSTART;TZID=America/New_York:20200216T090000
DTEND;TZID=America/New_York:20200216T120000
DTSTAMP:20260423T073658
CREATED:20200201T005454Z
LAST-MODIFIED:20200211T191905Z
UID:26148-1581843600-1581854400@boltonhillmd.org
SUMMARY:Black History Month Party with a Purpose
DESCRIPTION: \n
URL:https://boltonhillmd.org/event/black-history-month-party-with-a-purpose/
LOCATION:1308 Bolton St.
ATTACH;FMTTYPE=image/jpeg:https://boltonhillmd.org/wp-content/uploads/2020/01/party-thumb-custom.jpg
END:VEVENT
END:VCALENDAR