BEGIN:VCALENDAR
VERSION:2.0
PRODID:-//Bolton Hill - ECPv4.9.13//NONSGML v1.0//EN
CALSCALE:GREGORIAN
METHOD:PUBLISH
X-WR-CALNAME:Bolton Hill
X-ORIGINAL-URL:https://boltonhillmd.org
X-WR-CALDESC:Events for Bolton Hill
BEGIN:VTIMEZONE
TZID:America/New_York
BEGIN:DAYLIGHT
TZOFFSETFROM:-0500
TZOFFSETTO:-0400
TZNAME:EDT
DTSTART:20190310T070000
END:DAYLIGHT
BEGIN:STANDARD
TZOFFSETFROM:-0400
TZOFFSETTO:-0500
TZNAME:EST
DTSTART:20191103T060000
END:STANDARD
END:VTIMEZONE
BEGIN:VEVENT
DTSTART;TZID=America/New_York:20190601T130000
DTEND;TZID=America/New_York:20190601T160000
DTSTAMP:20260425T171029
CREATED:20190522T164229Z
LAST-MODIFIED:20190522T164229Z
UID:23807-1559394000-1559404800@boltonhillmd.org
SUMMARY:Block Party
DESCRIPTION:12th annual Block Party\nThe 12th annual Block Party will be held June 1st from 1:00 pm – 4:00 pm at the corner of Pennsylvania and Fremont Streets. There will be food\, bike repair\, fresh produce\, art activities\, and a resource fair \nJob Fair-bring a resume\, dress business casual \nSounds by The C. James Experience \nHosted by Big Fred \nHeadlined by Joy Postell \nFeaturing: \n\nErnest The Third\nBaltimore Twilighters\nOrch Kids Brass Band\nDynamic Force\nLine dance with Two The Point\nBaltimore Hoop Love\nMusicians Paradise\n\nSponsored by the No Boundaries Coalition		 \n
URL:https://boltonhillmd.org/event/block-party/
END:VEVENT
END:VCALENDAR