BEGIN:VCALENDAR
VERSION:2.0
PRODID:-//Bolton Hill - ECPv4.9.13//NONSGML v1.0//EN
CALSCALE:GREGORIAN
METHOD:PUBLISH
X-WR-CALNAME:Bolton Hill
X-ORIGINAL-URL:https://boltonhillmd.org
X-WR-CALDESC:Events for Bolton Hill
BEGIN:VTIMEZONE
TZID:America/New_York
BEGIN:DAYLIGHT
TZOFFSETFROM:-0500
TZOFFSETTO:-0400
TZNAME:EDT
DTSTART:20230312T070000
END:DAYLIGHT
BEGIN:STANDARD
TZOFFSETFROM:-0400
TZOFFSETTO:-0500
TZNAME:EST
DTSTART:20231105T060000
END:STANDARD
END:VTIMEZONE
BEGIN:VEVENT
DTSTART;TZID=America/New_York:20230211T140000
DTEND;TZID=America/New_York:20230211T160000
DTSTAMP:20260422T182647
CREATED:20230120T010518Z
LAST-MODIFIED:20230126T022451Z
UID:30786-1676124000-1676131200@boltonhillmd.org
SUMMARY:Bolton Hill Garden Club and Bolton Hill Community Association Greening Briefing
DESCRIPTION:Come on out to hear about the greening projects funded by the Bolton Hill Garden Club\, the Bolton Hill Community Association\, and the Midtown Community Benefits District. You’ll also learn about how you can seek funding for a greening project in a public space around Bolton Hill. \nA joint event sponsored by the Bolton Hill Garden Club and Bolton Hill Community Association\, the Greening Briefing will be held from 2:00-3:00 p.m.\, followed by a Reception of Appreciation for the park\, gardens and tree stewards from 3:00-4:00 p.m. \nTo plan for the number of attendees\, please indicate if you intend to attend here by February 9. \n
URL:https://boltonhillmd.org/event/bolton-hill-garden-club-greening-briefing/
LOCATION:Baltimore Unity Hall\, 1505 Eutaw Place\, Baltimore\, MD\, 21217\, United States
ATTACH;FMTTYPE=image/png:https://boltonhillmd.org/wp-content/uploads/2022/09/Picture1em.png
GEO:39.3059886;-76.6279979
X-APPLE-STRUCTURED-LOCATION;VALUE=URI;X-ADDRESS=Baltimore Unity Hall 1505 Eutaw Place Baltimore MD 21217 United States;X-APPLE-RADIUS=500;X-TITLE=1505 Eutaw Place:geo:-76.6279979,39.3059886
END:VEVENT
END:VCALENDAR