BEGIN:VCALENDAR
VERSION:2.0
PRODID:-//Bolton Hill - ECPv4.9.13//NONSGML v1.0//EN
CALSCALE:GREGORIAN
METHOD:PUBLISH
X-WR-CALNAME:Bolton Hill
X-ORIGINAL-URL:https://boltonhillmd.org
X-WR-CALDESC:Events for Bolton Hill
BEGIN:VTIMEZONE
TZID:America/New_York
BEGIN:DAYLIGHT
TZOFFSETFROM:-0500
TZOFFSETTO:-0400
TZNAME:EDT
DTSTART:20180311T070000
END:DAYLIGHT
BEGIN:STANDARD
TZOFFSETFROM:-0400
TZOFFSETTO:-0500
TZNAME:EST
DTSTART:20181104T060000
END:STANDARD
END:VTIMEZONE
BEGIN:VEVENT
DTSTART;TZID=America/New_York:20181109T103000
DTEND;TZID=America/New_York:20181109T120000
DTSTAMP:20260425T232941
CREATED:20181019T122629Z
LAST-MODIFIED:20181019T122629Z
UID:23662-1541759400-1541764800@boltonhillmd.org
SUMMARY:Creating a Safer Baltimore for Pedestrians and Bicyclists
DESCRIPTION:Safer Baltimore for Pedestrians and Bicyclists\nThis fall\, the Center for Social Design is partnering with Maryland Department of Transportation’s Motor Vehicle Administration Maryland Highway Safety Office\, as well as pedestrians\, bicyclists\, and other community stakeholders\, to better understand the barriers to pedestrian and bicyclist safety in Baltimore. \nThrough a Practice-Based Studio\, an interdisciplinary team of MICA students will be utilizing a human-centered and collaborative process to identify design opportunities for improved pedestrian and bicyclist safety. \nMICA’S Center for Social Design is asking neighbors to attend workshops planned in November and December to provide their feedback. They would like to develop and design prototypes with the ultimate goal of creating a safer Baltimore for pedestrians and bicyclists. The project will focus on the areas immediately surrounding the MICA campus including Bolton Hill\, Mount Royal\, and North Avenue. \nFor more detailed information click HERE \nDates for the workshops are: \n\nFriday\, November 9th\,  10:30-12 pm: Research Shareback and Brainstorming Session\nFriday\, December 14th\, 10:30-12 pm: Final Shareback\n\nFred Lazarus IV Building\, 131 North AvenueMICA_MDOT_Fall2018\, room 175 \n 		 \n
URL:https://boltonhillmd.org/event/creating-a-safer-baltimore-for-pedestrians-and-bicyclists/2018-11-09/
LOCATION:RIGGS Gallery\, Fred Lazarus Center\, 131 W. North Ave.\, Baltimore\, MD\, 21201\, United States
ORGANIZER;CN="Kate%20McGrain":MAILTO:kmcgrain@mica.edu
GEO:39.3107617;-76.6187488
X-APPLE-STRUCTURED-LOCATION;VALUE=URI;X-ADDRESS=RIGGS Gallery Fred Lazarus Center 131 W. North Ave. Baltimore MD 21201 United States;X-APPLE-RADIUS=500;X-TITLE=131 W. North Ave.:geo:-76.6187488,39.3107617
END:VEVENT
END:VCALENDAR