BEGIN:VCALENDAR
VERSION:2.0
PRODID:-//Bolton Hill - ECPv4.9.13//NONSGML v1.0//EN
CALSCALE:GREGORIAN
METHOD:PUBLISH
X-WR-CALNAME:Bolton Hill
X-ORIGINAL-URL:https://boltonhillmd.org
X-WR-CALDESC:Events for Bolton Hill
BEGIN:VTIMEZONE
TZID:America/New_York
BEGIN:DAYLIGHT
TZOFFSETFROM:-0500
TZOFFSETTO:-0400
TZNAME:EDT
DTSTART:20230312T070000
END:DAYLIGHT
BEGIN:STANDARD
TZOFFSETFROM:-0400
TZOFFSETTO:-0500
TZNAME:EST
DTSTART:20231105T060000
END:STANDARD
END:VTIMEZONE
BEGIN:VEVENT
DTSTART;TZID=America/New_York:20231007T100000
DTEND;TZID=America/New_York:20231007T170000
DTSTAMP:20260422T172328
CREATED:20221013T172759Z
LAST-MODIFIED:20230908T005402Z
UID:30450-1696672800-1696698000@boltonhillmd.org
SUMMARY:Festival on the Hill
DESCRIPTION:Save the date for Festival on the Hill 2023! \nIf you want to volunteer or have ideas\, contact festival@boltonhillmd.org. \nMore details to follow … \n  \n
URL:https://boltonhillmd.org/event/festival-on-the-hill-2/
LOCATION:1300 Block Bolton Street\, Bolton St & Lafayette St.
ATTACH;FMTTYPE=image/jpeg:https://boltonhillmd.org/wp-content/uploads/2022/10/Festival-on-the-Hill-poster-2023FINALweb.jpg
GEO:39.3061522;-76.6250052
X-APPLE-STRUCTURED-LOCATION;VALUE=URI;X-ADDRESS=1300 Block Bolton Street Bolton St & Lafayette St.;X-APPLE-RADIUS=500;X-TITLE=Bolton St & Lafayette St.:geo:-76.6250052,39.3061522
END:VEVENT
END:VCALENDAR