BEGIN:VCALENDAR
VERSION:2.0
PRODID:-//Bolton Hill - ECPv4.9.13//NONSGML v1.0//EN
CALSCALE:GREGORIAN
METHOD:PUBLISH
X-WR-CALNAME:Bolton Hill
X-ORIGINAL-URL:https://boltonhillmd.org
X-WR-CALDESC:Events for Bolton Hill
BEGIN:VTIMEZONE
TZID:America/New_York
BEGIN:DAYLIGHT
TZOFFSETFROM:-0500
TZOFFSETTO:-0400
TZNAME:EDT
DTSTART:20230312T070000
END:DAYLIGHT
BEGIN:STANDARD
TZOFFSETFROM:-0400
TZOFFSETTO:-0500
TZNAME:EST
DTSTART:20231105T060000
END:STANDARD
END:VTIMEZONE
BEGIN:VEVENT
DTSTART;TZID=America/New_York:20230506T110000
DTEND;TZID=America/New_York:20230506T200000
DTSTAMP:20260423T072121
CREATED:20230502T215640Z
LAST-MODIFIED:20230502T215640Z
UID:31149-1683370800-1683403200@boltonhillmd.org
SUMMARY:Flower Mart
DESCRIPTION:\nFlower Mart was founded in 1911 by the Women’s Civic League\, an organization formed to advocate for better living conditions in the City of Baltimore.\n\n\n \n\n\nShop plants & crafts from local growers & artists\, and enjoy musical performances\, workshops\, local food\, lemon sticks & wine/beer.\n\n
URL:https://boltonhillmd.org/event/flower-mart-2/
LOCATION:Mt. Vernon Place\, Baltimore\, MD\, United States
ATTACH;FMTTYPE=image/jpeg:https://boltonhillmd.org/wp-content/uploads/2023/05/origin.jpg
END:VEVENT
END:VCALENDAR