BEGIN:VCALENDAR
VERSION:2.0
PRODID:-//Bolton Hill - ECPv4.9.13//NONSGML v1.0//EN
CALSCALE:GREGORIAN
METHOD:PUBLISH
X-WR-CALNAME:Bolton Hill
X-ORIGINAL-URL:https://boltonhillmd.org
X-WR-CALDESC:Events for Bolton Hill
BEGIN:VTIMEZONE
TZID:America/New_York
BEGIN:DAYLIGHT
TZOFFSETFROM:-0500
TZOFFSETTO:-0400
TZNAME:EDT
DTSTART:20250309T070000
END:DAYLIGHT
BEGIN:STANDARD
TZOFFSETFROM:-0400
TZOFFSETTO:-0500
TZNAME:EST
DTSTART:20251102T060000
END:STANDARD
END:VTIMEZONE
BEGIN:VEVENT
DTSTART;TZID=America/New_York:20250228T150000
DTEND;TZID=America/New_York:20250228T170000
DTSTAMP:20260422T182519
CREATED:20250219T014134Z
LAST-MODIFIED:20250219T014134Z
UID:34009-1740754800-1740762000@boltonhillmd.org
SUMMARY:Golden Bolton Hill Salute
DESCRIPTION:BHCA and its Gray Panthers Task Force will host a reception on Friday\, Feb. 28\, from 3 to 5 p.m. to honor some three dozen Bolton Hill residents who have lived in the neighborhood for 50 years or more. \nEveryone in the neighborhood is invited\, but seating space will be limited. If you plan to attend\, please RSVP to graypanthers@boltonhillmd.org. Refreshments will be provided. \n
URL:https://boltonhillmd.org/event/golden-bolton-hill-salute/
LOCATION:Linden Park Apartments\, 301 McMechen Street\, Baltimore\, MD\, 21217\, United States
ATTACH;FMTTYPE=image/jpeg:https://boltonhillmd.org/wp-content/uploads/2025/02/50years-e1739622332584.jpeg
GEO:39.306631;-76.6274122
X-APPLE-STRUCTURED-LOCATION;VALUE=URI;X-ADDRESS=Linden Park Apartments 301 McMechen Street Baltimore MD 21217 United States;X-APPLE-RADIUS=500;X-TITLE=301 McMechen Street:geo:-76.6274122,39.306631
END:VEVENT
END:VCALENDAR