BEGIN:VCALENDAR
VERSION:2.0
PRODID:-//Bolton Hill - ECPv4.9.13//NONSGML v1.0//EN
CALSCALE:GREGORIAN
METHOD:PUBLISH
X-WR-CALNAME:Bolton Hill
X-ORIGINAL-URL:https://boltonhillmd.org
X-WR-CALDESC:Events for Bolton Hill
BEGIN:VTIMEZONE
TZID:America/New_York
BEGIN:DAYLIGHT
TZOFFSETFROM:-0500
TZOFFSETTO:-0400
TZNAME:EDT
DTSTART:20220313T070000
END:DAYLIGHT
BEGIN:STANDARD
TZOFFSETFROM:-0400
TZOFFSETTO:-0500
TZNAME:EST
DTSTART:20221106T060000
END:STANDARD
END:VTIMEZONE
BEGIN:VEVENT
DTSTART;TZID=America/New_York:20220222T180000
DTEND;TZID=America/New_York:20220222T190000
DTSTAMP:20260425T231841
CREATED:20220130T194221Z
LAST-MODIFIED:20220130T194221Z
UID:29336-1645552800-1645556400@boltonhillmd.org
SUMMARY:Greening Grant Opportunities from Bolton Hill Garden Club & Midtown Community Benefits District
DESCRIPTION:Please mark your calendars for briefings by Bonnie Legro on the grant opportunity from the Bolton Hill Garden Club and by Curtis Ritz on the grant opportunity from the Midtown Benefits District on February 22 at 6:00 pm. For Zoom info\, email webmaster@boltonhillmd.org. \n
URL:https://boltonhillmd.org/event/greening-grant-opportunities-from-bolton-hill-garden-club-midtown-community-benefits-district/
LOCATION:Virtual
ATTACH;FMTTYPE=image/png:https://boltonhillmd.org/wp-content/uploads/2022/01/Screen-Shot-2021-12-31-at-11.35.16-AM.png
END:VEVENT
END:VCALENDAR