BEGIN:VCALENDAR
VERSION:2.0
PRODID:-//Bolton Hill - ECPv4.9.13//NONSGML v1.0//EN
CALSCALE:GREGORIAN
METHOD:PUBLISH
X-WR-CALNAME:Bolton Hill
X-ORIGINAL-URL:https://boltonhillmd.org
X-WR-CALDESC:Events for Bolton Hill
BEGIN:VTIMEZONE
TZID:America/New_York
BEGIN:DAYLIGHT
TZOFFSETFROM:-0500
TZOFFSETTO:-0400
TZNAME:EDT
DTSTART:20230312T070000
END:DAYLIGHT
BEGIN:STANDARD
TZOFFSETFROM:-0400
TZOFFSETTO:-0500
TZNAME:EST
DTSTART:20231105T060000
END:STANDARD
END:VTIMEZONE
BEGIN:VEVENT
DTSTART;TZID=America/New_York:20230505T190000
DTEND;TZID=America/New_York:20230505T220000
DTSTAMP:20260423T071526
CREATED:20230425T020532Z
LAST-MODIFIED:20230425T020532Z
UID:31126-1683313200-1683324000@boltonhillmd.org
SUMMARY:Masquerade in May - SFNC’s 60th Anniversary Gala
DESCRIPTION:Join St. Francis Neighborhood Center in celebrating 60 YEARS of continuous operations on May 5\, 2023! We are a 501(c)(3) nonprofit community-based organization founded in 1963 to serve the Reservoir Hill and Penn-North neighborhoods of Baltimore City as well as the greater 21217 zipcode. Our mission is to end generational poverty\, and for the past 60 years we have provided critical resources through holistic intervention programs at no cost for youth and families in the neighborhood to meet that goal. \nJoin us for MASQUERADE IN MAY – a dazzling evening highlighting our storied history and the many talents of our Power Project afterschool program students. Guests will enjoy a selection of hors d’oeuvres\, refreshments (including our limited edition Checkerspot x SFNC Honey & Bitter Orange Session IPA)\, youth performances\, a student art auction and special archival exhibition\, music\, and more! Proceeds from our spring gala will go toward much-needed program and operations funding to ensure that we can continue serving our community for decades to come! \nTickets & Sponsorship Info: stfranciscenter.org/60years\nCreative formal/cocktail attire is encouraged & student-made masks will be available for a small fee.\nGeneral Admission ($90) – Hors d’oeuvres & refreshments\, wine tasting\, performances\, youth artwork for sale & more!\nVIP ($130) – Early Access VIP Cocktail Hour from 6-7pm\, Swag Bag & promo code for a commemorative brick\nCommemorative VIP ($150) – Early Access VIP Cocktail Hour from 6-7pm\, Checkerspot x SFNC 60th Anniversary Session IPA Crowler with Swag Bag & promo code for a commemorative brick in our Memorial Pathway \n
URL:https://boltonhillmd.org/event/masquerade-in-may-sfncs-60th-anniversary-gala/
LOCATION:St. Francis Neighborhood Center\, 2405 Linden Avenue\, Baltimore\, MD\, 21217\, United States
ATTACH;FMTTYPE=image/png:https://boltonhillmd.org/wp-content/uploads/2023/04/2023-Spring-Gala-Theme-Website-SpotlightHeader-Facebook-Event-Cover.png
GEO:39.3142106;-76.6355609
X-APPLE-STRUCTURED-LOCATION;VALUE=URI;X-ADDRESS=St. Francis Neighborhood Center 2405 Linden Avenue Baltimore MD 21217 United States;X-APPLE-RADIUS=500;X-TITLE=2405 Linden Avenue:geo:-76.6355609,39.3142106
END:VEVENT
END:VCALENDAR