BEGIN:VCALENDAR
VERSION:2.0
PRODID:-//Bolton Hill - ECPv4.9.13//NONSGML v1.0//EN
CALSCALE:GREGORIAN
METHOD:PUBLISH
X-WR-CALNAME:Bolton Hill
X-ORIGINAL-URL:https://boltonhillmd.org
X-WR-CALDESC:Events for Bolton Hill
BEGIN:VTIMEZONE
TZID:America/New_York
BEGIN:DAYLIGHT
TZOFFSETFROM:-0500
TZOFFSETTO:-0400
TZNAME:EDT
DTSTART:20240310T070000
END:DAYLIGHT
BEGIN:STANDARD
TZOFFSETFROM:-0400
TZOFFSETTO:-0500
TZNAME:EST
DTSTART:20241103T060000
END:STANDARD
END:VTIMEZONE
BEGIN:VEVENT
DTSTART;TZID=America/New_York:20240416T183000
DTEND;TZID=America/New_York:20240416T203000
DTSTAMP:20260422T085551
CREATED:20240404T153043Z
LAST-MODIFIED:20240404T153043Z
UID:32229-1713292200-1713299400@boltonhillmd.org
SUMMARY:Mayor and City Council President Candidate Forum
DESCRIPTION:Tuesday\, April 16: Mayor & City Council President Forum \n📍 Emmanuel Episcopal Church 811 Cathedral St \n🕒 Time: 6:30-8:30 pm (doors open at 6 pm) \n
URL:https://boltonhillmd.org/event/mayor-and-city-council-president-candidate-forum/
LOCATION:Emmanuel Episcopal Church\, 811 Cathedral Street\, Baltimore\, Maryland
ATTACH;FMTTYPE=image/jpeg:https://boltonhillmd.org/wp-content/uploads/2024/04/MVBA_CandidateForum_8-5x11_Flyer_5_3-scaled.jpg
END:VEVENT
END:VCALENDAR