BEGIN:VCALENDAR
VERSION:2.0
PRODID:-//Bolton Hill - ECPv4.9.13//NONSGML v1.0//EN
CALSCALE:GREGORIAN
METHOD:PUBLISH
X-WR-CALNAME:Bolton Hill
X-ORIGINAL-URL:https://boltonhillmd.org
X-WR-CALDESC:Events for Bolton Hill
BEGIN:VTIMEZONE
TZID:America/New_York
BEGIN:DAYLIGHT
TZOFFSETFROM:-0500
TZOFFSETTO:-0400
TZNAME:EDT
DTSTART:20200308T070000
END:DAYLIGHT
BEGIN:STANDARD
TZOFFSETFROM:-0400
TZOFFSETTO:-0500
TZNAME:EST
DTSTART:20201101T060000
END:STANDARD
END:VTIMEZONE
BEGIN:VEVENT
DTSTART;TZID=America/New_York:20200808T061500
DTEND;TZID=America/New_York:20200808T070000
DTSTAMP:20260424T050311
CREATED:20200805T020647Z
LAST-MODIFIED:20200805T020647Z
UID:26898-1596867300-1596870000@boltonhillmd.org
SUMMARY:Outdoor Boot Camp Class
DESCRIPTION:Local trainer Noni Bell is offering an outdoor boot camp classes every Saturday in August at 10:15am at Sumpter park. The class will be for 45 mins and is open to all fitness levels. You must sign up ahead of time on her website www.nonibellfitness.com and go to the outdoor fitness class tab to sign up (10 people per class). You may have met Noni before as she is out there regularly training clients. Bring a mat\, some water\, maybe a friend and let’s get your body in shape! Social distancing will be in effect. \nClass will be cancelled if it is raining. \n
URL:https://boltonhillmd.org/event/outdoor-boot-camp-class/2020-08-08/
LOCATION:Sumpter Park\, Laurens and Robert Streets\, Baltimore\, MD\, 21217\, United States
ATTACH;FMTTYPE=image/png:https://boltonhillmd.org/wp-content/uploads/2020/08/Blue-Geometric-Fitness-Flyer1.png
ORGANIZER;CN="Noni%20Bell":MAILTO:nonibell3@gmail.com
GEO:39.3082451;-76.630282
X-APPLE-STRUCTURED-LOCATION;VALUE=URI;X-ADDRESS=Sumpter Park Laurens and Robert Streets Baltimore MD 21217 United States;X-APPLE-RADIUS=500;X-TITLE=Laurens and Robert Streets:geo:-76.630282,39.3082451
END:VEVENT
END:VCALENDAR