BEGIN:VCALENDAR
VERSION:2.0
PRODID:-//Bolton Hill - ECPv4.9.13//NONSGML v1.0//EN
CALSCALE:GREGORIAN
METHOD:PUBLISH
X-WR-CALNAME:Bolton Hill
X-ORIGINAL-URL:https://boltonhillmd.org
X-WR-CALDESC:Events for Bolton Hill
BEGIN:VTIMEZONE
TZID:America/New_York
BEGIN:DAYLIGHT
TZOFFSETFROM:-0500
TZOFFSETTO:-0400
TZNAME:EDT
DTSTART:20230312T070000
END:DAYLIGHT
BEGIN:STANDARD
TZOFFSETFROM:-0400
TZOFFSETTO:-0500
TZNAME:EST
DTSTART:20231105T060000
END:STANDARD
END:VTIMEZONE
BEGIN:VEVENT
DTSTART;TZID=America/New_York:20230128T090000
DTEND;TZID=America/New_York:20230128T130000
DTSTAMP:20260422T182340
CREATED:20230120T013706Z
LAST-MODIFIED:20230120T013706Z
UID:30788-1674896400-1674910800@boltonhillmd.org
SUMMARY:Retirement Living/Downsizing Workshop
DESCRIPTION:Are you or a loved one contemplating downsizing or moving to a retirement-type setting? If so\, please join us for an informative and enjoyable discussion featuring local experts and experienced neighbors to review options\, affordability\, as well as easy and effective ways to downsize. RSVP to Frederickdemers@yahoo.com.\n
URL:https://boltonhillmd.org/event/retirement-living-downsizing-workshop/
LOCATION:Memorial Episcopal\, 1407 Bolton St\, Baltimore\, MD\, 21217\, United States
ATTACH;FMTTYPE=image/gif:https://boltonhillmd.org/wp-content/uploads/2023/01/Downsizing-Homes.gif
GEO:39.3064664;-76.6249529
X-APPLE-STRUCTURED-LOCATION;VALUE=URI;X-ADDRESS=Memorial Episcopal 1407 Bolton St Baltimore MD 21217 United States;X-APPLE-RADIUS=500;X-TITLE=1407 Bolton St:geo:-76.6249529,39.3064664
END:VEVENT
END:VCALENDAR