BEGIN:VCALENDAR
VERSION:2.0
PRODID:-//Bolton Hill - ECPv4.9.13//NONSGML v1.0//EN
CALSCALE:GREGORIAN
METHOD:PUBLISH
X-WR-CALNAME:Bolton Hill
X-ORIGINAL-URL:https://boltonhillmd.org
X-WR-CALDESC:Events for Bolton Hill
BEGIN:VTIMEZONE
TZID:America/New_York
BEGIN:DAYLIGHT
TZOFFSETFROM:-0500
TZOFFSETTO:-0400
TZNAME:EDT
DTSTART:20190310T070000
END:DAYLIGHT
BEGIN:STANDARD
TZOFFSETFROM:-0400
TZOFFSETTO:-0500
TZNAME:EST
DTSTART:20191103T060000
END:STANDARD
END:VTIMEZONE
BEGIN:VEVENT
DTSTART;TZID=America/New_York:20190605T140000
DTEND;TZID=America/New_York:20190605T170000
DTSTAMP:20260425T140748
CREATED:20190522T162522Z
LAST-MODIFIED:20190522T162522Z
UID:23801-1559743200-1559754000@boltonhillmd.org
SUMMARY:Ribbon Cutting of The Jordan Apartments and The Tilted Row Pub
DESCRIPTION:The Jordan Apartments and The Tilted Row\nThere will be a ribbon cutting of The Jordan Apartments and The Tilted Row\, a Gastro Pub Wednesday\, June 5th at 2:00 pm. \nMayor Jack Young and Councilman Eric T. Costello along with other officials will be attending. \nIf you wish to attend please RSVP to Natalie Jean by May 29th \nnjean@somersetdev.com \n202-363-2090		 \n
URL:https://boltonhillmd.org/event/ribbon-cutting-of-the-jordan-apartments-and-the-tilted-row-pub/
LOCATION:MD\, United States
GEO:39.0457549;-76.6412712
END:VEVENT
END:VCALENDAR