BEGIN:VCALENDAR
VERSION:2.0
PRODID:-//Bolton Hill - ECPv4.9.13//NONSGML v1.0//EN
CALSCALE:GREGORIAN
METHOD:PUBLISH
X-WR-CALNAME:Bolton Hill
X-ORIGINAL-URL:https://boltonhillmd.org
X-WR-CALDESC:Events for Bolton Hill
BEGIN:VTIMEZONE
TZID:America/New_York
BEGIN:DAYLIGHT
TZOFFSETFROM:-0500
TZOFFSETTO:-0400
TZNAME:EDT
DTSTART:20190310T070000
END:DAYLIGHT
BEGIN:STANDARD
TZOFFSETFROM:-0400
TZOFFSETTO:-0500
TZNAME:EST
DTSTART:20191103T060000
END:STANDARD
END:VTIMEZONE
BEGIN:VEVENT
DTSTART;TZID=America/New_York:20190827T080000
DTEND;TZID=America/New_York:20190827T170000
DTSTAMP:20260425T121905
CREATED:20190827T183346Z
LAST-MODIFIED:20200102T223027Z
UID:23820-1566892800-1566925200@boltonhillmd.org
SUMMARY:The Tiffany Series 2019-2020
DESCRIPTION:The Tiffany Series 2019-2020\nThe new season of the Tiffany Series is upon us. Mark your calendars for this year’s events. \n\n\n\nMickey Thomas Terry\, Organist will be playing classic works and works by African America composers \nSunday\, October 27t\, 2019\, 3 PM \nMichael Britt\, Organist will present a Holiday Pops Concert  \nSunday\, December 8th\, 2019 at 3 PM \nCatonsville Steel Drum Band will present the music of Trinidad and Tobago \nSunday\, March 22\, 2020\, at 3 PM \nGet a “Handel” on the Anniversary Choral Concert in honor of Brown Memorial’s 150th year.  \nSunday\, April 26\, 2020 at 3 PM\n\n\n\n  \n  \n  \n  \n
URL:https://boltonhillmd.org/event/the-tiffany-series-2019-2020/
ATTACH;FMTTYPE=image/jpeg:https://boltonhillmd.org/wp-content/uploads/2019/08/Hands-at-Organ_Tiffany-503x503-1.jpg
END:VEVENT
END:VCALENDAR