BEGIN:VCALENDAR
VERSION:2.0
PRODID:-//Bolton Hill - ECPv4.9.13//NONSGML v1.0//EN
CALSCALE:GREGORIAN
METHOD:PUBLISH
X-WR-CALNAME:Bolton Hill
X-ORIGINAL-URL:https://boltonhillmd.org
X-WR-CALDESC:Events for Bolton Hill
BEGIN:VTIMEZONE
TZID:America/New_York
BEGIN:DAYLIGHT
TZOFFSETFROM:-0500
TZOFFSETTO:-0400
TZNAME:EDT
DTSTART:20180311T070000
END:DAYLIGHT
BEGIN:STANDARD
TZOFFSETFROM:-0400
TZOFFSETTO:-0500
TZNAME:EST
DTSTART:20181104T060000
END:STANDARD
END:VTIMEZONE
BEGIN:VEVENT
DTSTART;TZID=America/New_York:20181021T150000
DTEND;TZID=America/New_York:20181021T170000
DTSTAMP:20260426T023334
CREATED:20180822T173803Z
LAST-MODIFIED:20180822T173803Z
UID:23538-1540134000-1540141200@boltonhillmd.org
SUMMARY:The Tiffany Series Concerts at Brown Memorial
DESCRIPTION:				Starting October 21st\, the Tiffany Series Concerts will kick-off with Sean Jones and Friends. \nSean is an internationally acclaimed jazz trumpeter as well as the new Peabody Jazz department chairman. \nThis concert will be held October 21st at 3 pm. \nNext in the series\, The BSO Brass will conduct A Brass and Organ Concert Sunday December 9th at 7 pm. In addition to the BSO Brass\, Brown’s own Michael Britt\, organist will perform. They will be performing traditional brass pieces and holiday favorites. \nThird in the series will be an organ concert by Christopher Creaghan. Christopher is from New York City’s Riverside Church. This concert will be held Sunday March 17th\, 2019 at 3 pm. \nThe final concert will be Brown Memorial’s 150th Anniversary Concert. The Brown Memorial Chancel Choir will perform as well as the Beth El Congregation. The concert will be held Sunday May 5th\, 2019 at 3 pm.		 \n
URL:https://boltonhillmd.org/event/the-tiffany-series-concerts-at-brown-memorial/2018-10-21/
LOCATION:Brown Memorial Presbyterian Church\, 1316 Park Ave\, Baltimore\, MD\, 21217\, United States
ATTACH;FMTTYPE=image/jpeg:https://boltonhillmd.org/wp-content/uploads/2018/08/Tiff-2018-19-FLYER-FINAL_-1-1.jpeg
GEO:39.3064974;-76.6241218
X-APPLE-STRUCTURED-LOCATION;VALUE=URI;X-ADDRESS=Brown Memorial Presbyterian Church 1316 Park Ave Baltimore MD 21217 United States;X-APPLE-RADIUS=500;X-TITLE=1316 Park Ave:geo:-76.6241218,39.3064974
END:VEVENT
END:VCALENDAR