BEGIN:VCALENDAR
VERSION:2.0
PRODID:-//Bolton Hill - ECPv4.9.13//NONSGML v1.0//EN
CALSCALE:GREGORIAN
METHOD:PUBLISH
X-WR-CALNAME:Bolton Hill
X-ORIGINAL-URL:https://boltonhillmd.org
X-WR-CALDESC:Events for Bolton Hill
BEGIN:VTIMEZONE
TZID:America/New_York
BEGIN:DAYLIGHT
TZOFFSETFROM:-0500
TZOFFSETTO:-0400
TZNAME:EDT
DTSTART:20260308T070000
END:DAYLIGHT
BEGIN:STANDARD
TZOFFSETFROM:-0400
TZOFFSETTO:-0500
TZNAME:EST
DTSTART:20261101T060000
END:STANDARD
END:VTIMEZONE
BEGIN:VEVENT
DTSTART;TZID=America/New_York:20260426T150000
DTEND;TZID=America/New_York:20260426T163000
DTSTAMP:20260424T100728
CREATED:20260422T014747Z
LAST-MODIFIED:20260422T014747Z
UID:35546-1777215600-1777221000@boltonhillmd.org
SUMMARY:Tiffany Events at Brown Memorial Park Avenue Presbyterian Church Presents Beyond Established Boundaries: An Afternoon with Peter Beinart
DESCRIPTION:A meaningful and challenging discussion relevant to\nthe Christian community\, featuring Jewish journalist\nand writer Peter Beinart on his book Being Jewish After\nthe Destruction of Gaza: A Reckoning. This will be an\nafternoon exploring what it means to walk together\n“beyond established boundaries\,” in pursuit of moral\nreconstruction\, justice\, and peace. \n
URL:https://boltonhillmd.org/event/tiffany-events-at-brown-memorial-park-avenue-presbyterian-church-presents-beyond-established-boundaries-an-afternoon-with-peter-beinart/
LOCATION:Brown Memorial Presbyterian Church\, 1316 Park Ave\, Baltimore\, MD\, 21217\, United States
ATTACH;FMTTYPE=image/png:https://boltonhillmd.org/wp-content/uploads/2026/04/Beinart-Event-Flyer.png
GEO:39.3064974;-76.6241218
X-APPLE-STRUCTURED-LOCATION;VALUE=URI;X-ADDRESS=Brown Memorial Presbyterian Church 1316 Park Ave Baltimore MD 21217 United States;X-APPLE-RADIUS=500;X-TITLE=1316 Park Ave:geo:-76.6241218,39.3064974
END:VEVENT
END:VCALENDAR