BEGIN:VCALENDAR
VERSION:2.0
PRODID:-//Bolton Hill - ECPv4.9.13//NONSGML v1.0//EN
CALSCALE:GREGORIAN
METHOD:PUBLISH
X-WR-CALNAME:Bolton Hill
X-ORIGINAL-URL:https://boltonhillmd.org
X-WR-CALDESC:Events for Bolton Hill
BEGIN:VTIMEZONE
TZID:America/New_York
BEGIN:DAYLIGHT
TZOFFSETFROM:-0500
TZOFFSETTO:-0400
TZNAME:EDT
DTSTART:20190310T070000
END:DAYLIGHT
BEGIN:STANDARD
TZOFFSETFROM:-0400
TZOFFSETTO:-0500
TZNAME:EST
DTSTART:20191103T060000
END:STANDARD
END:VTIMEZONE
BEGIN:VEVENT
DTSTART;TZID=America/New_York:20190505T150000
DTEND;TZID=America/New_York:20190505T170000
DTSTAMP:20260425T170337
CREATED:20190430T180837Z
LAST-MODIFIED:20190430T180837Z
UID:23755-1557068400-1557075600@boltonhillmd.org
SUMMARY:Tiffany Series Concert Features Leonard Bernstein Work (and his son!)
DESCRIPTION:				 \nLeonard Bernstein’s “Chichester Psalms” will be performed by the combined choirs of Brown Memorial Presbyterian Church and Beth El Congregation on Sunday\, May 5 at 3 p.m. at Brown Memorial\, 1320 Park Avenue\, in the Bolton Hill section of Baltimore.  A reception will follow. \nTom Hall will conduct\, and Michael Britt will play the organ accompaniment.  Alexander Bernstein\, the composer’s son\, is coming to the performance and will be interviewed by Tom Hall as part of the event. \n“Chichester Psalms”  is Bernstein’s emotional plea for reconciliation and peace in the world. Jazzy and contemporary\, it is filled with gorgeous melodies as well as unusual harmonies\, rhythms and meters (and echoes of “West Side Story”!). \nThe choir will also perform the premiere of Cantor Thom King’s “Psalm 24” as well as C. Hubert H. Parry’s “I Was Glad.”  This concert celebrates Brown Memorial’s 150th Anniversary. \nTickets to this Tiffany Series concert are $20. Students get free admission. Patron tickets are $50. (Patrons get a free CD of a Tiffany Series concert and our heartfelt gratitude.) Tickets are available online at BrownDownTown.org/current-season and at the door. \nPARKING and shuttle service will be available.  For information\, please call 410-523-1542. \n  \nBernstein “Chichester Psalms”		 \n
URL:https://boltonhillmd.org/event/tiffany-series-concert-features-leonard-bernstein-work-and-his-son/
LOCATION:Brown Memorial Presbyterian Church\, 1316 Park Ave\, Baltimore\, MD\, 21217\, United States
GEO:39.3064974;-76.6241218
X-APPLE-STRUCTURED-LOCATION;VALUE=URI;X-ADDRESS=Brown Memorial Presbyterian Church 1316 Park Ave Baltimore MD 21217 United States;X-APPLE-RADIUS=500;X-TITLE=1316 Park Ave:geo:-76.6241218,39.3064974
END:VEVENT
END:VCALENDAR