BEGIN:VCALENDAR
VERSION:2.0
PRODID:-//Bolton Hill - ECPv4.9.13//NONSGML v1.0//EN
CALSCALE:GREGORIAN
METHOD:PUBLISH
X-WR-CALNAME:Bolton Hill
X-ORIGINAL-URL:https://boltonhillmd.org
X-WR-CALDESC:Events for Bolton Hill
BEGIN:VTIMEZONE
TZID:America/New_York
BEGIN:DAYLIGHT
TZOFFSETFROM:-0500
TZOFFSETTO:-0400
TZNAME:EDT
DTSTART:20230312T070000
END:DAYLIGHT
BEGIN:STANDARD
TZOFFSETFROM:-0400
TZOFFSETTO:-0500
TZNAME:EST
DTSTART:20231105T060000
END:STANDARD
END:VTIMEZONE
BEGIN:VEVENT
DTSTART;TZID=America/New_York:20230423T150000
DTEND;TZID=America/New_York:20230423T170000
DTSTAMP:20260423T032945
CREATED:20230402T014301Z
LAST-MODIFIED:20230402T014301Z
UID:31049-1682262000-1682269200@boltonhillmd.org
SUMMARY:Tiffany Series Organ Concert at Brown Memorial
DESCRIPTION:The Tiffany Series is honored to present a concert by the renowned organist Eric Plutz on Sunday\, April 23 at 3 p.m.  Mr. Plutz\, the Princeton University organist and teacher\, has performed at distinguished locations across the United States and Europe.  He has also been a featured artist at both regional and national  conventions of the American Guild of Organists.  His playing on one of his albums was described by a reviewer as “sensitive\, emotional\, stunningly accurate\, and spectacularly musical … truly a world-class performance by a world-class musician.”  As an accompanist\, Mr. Plutz has worked with the National Symphony Orchestra\, the Choral Arts Society of Washington\, and the Cathedral Choral Society\, as well as the Princeton Chapel Choir. \nTickets are $20; students free admission. For more information\, click here. \n
URL:https://boltonhillmd.org/event/tiffany-series-organ-concert-at-brown-memorial/
LOCATION:Brown Memorial Presbyterian Church\, 1316 Park Ave\, Baltimore\, MD\, 21217\, United States
ATTACH;FMTTYPE=image/jpeg:https://boltonhillmd.org/wp-content/uploads/2023/04/image-asset-1-503x503-1.jpeg
GEO:39.3064974;-76.6241218
X-APPLE-STRUCTURED-LOCATION;VALUE=URI;X-ADDRESS=Brown Memorial Presbyterian Church 1316 Park Ave Baltimore MD 21217 United States;X-APPLE-RADIUS=500;X-TITLE=1316 Park Ave:geo:-76.6241218,39.3064974
END:VEVENT
END:VCALENDAR