BEGIN:VCALENDAR
VERSION:2.0
PRODID:-//Bolton Hill - ECPv4.9.13//NONSGML v1.0//EN
CALSCALE:GREGORIAN
METHOD:PUBLISH
X-WR-CALNAME:Bolton Hill
X-ORIGINAL-URL:https://boltonhillmd.org
X-WR-CALDESC:Events for Bolton Hill
BEGIN:VTIMEZONE
TZID:America/New_York
BEGIN:DAYLIGHT
TZOFFSETFROM:-0500
TZOFFSETTO:-0400
TZNAME:EDT
DTSTART:20230312T070000
END:DAYLIGHT
BEGIN:STANDARD
TZOFFSETFROM:-0400
TZOFFSETTO:-0500
TZNAME:EST
DTSTART:20231105T060000
END:STANDARD
END:VTIMEZONE
BEGIN:VEVENT
DTSTART;TZID=America/New_York:20230513T090000
DTEND;TZID=America/New_York:20230513T113000
DTSTAMP:20260423T094254
CREATED:20230330T003336Z
LAST-MODIFIED:20230330T003336Z
UID:31038-1683968400-1683977400@boltonhillmd.org
SUMMARY:Tree Planting on 1700 Block of Druid Hill Avenue
DESCRIPTION:Come on out to help plant trees on the 1700 block of Druid Hill Avenue in an effort sponsored by the Bolton Hill Garden Club. Just bring gloves; all other materials provided. \n
URL:https://boltonhillmd.org/event/tree-planting-on-1700-block-of-druid-hill-avenue/
LOCATION:1700 Druid Hill Avenue\, 1700 Druid Hill Avenue\, Baltimore\, MD\, United States
ATTACH;FMTTYPE=image/jpeg:https://boltonhillmd.org/wp-content/uploads/2023/03/genMid.MDBA2048904_5.jpg
END:VEVENT
END:VCALENDAR