BEGIN:VCALENDAR
VERSION:2.0
PRODID:-//Bolton Hill - ECPv4.9.13//NONSGML v1.0//EN
CALSCALE:GREGORIAN
METHOD:PUBLISH
X-WR-CALNAME:Bolton Hill
X-ORIGINAL-URL:https://boltonhillmd.org
X-WR-CALDESC:Events for Bolton Hill
BEGIN:VTIMEZONE
TZID:America/New_York
BEGIN:DAYLIGHT
TZOFFSETFROM:-0500
TZOFFSETTO:-0400
TZNAME:EDT
DTSTART:20200308T070000
END:DAYLIGHT
BEGIN:STANDARD
TZOFFSETFROM:-0400
TZOFFSETTO:-0500
TZNAME:EST
DTSTART:20201101T060000
END:STANDARD
END:VTIMEZONE
BEGIN:VEVENT
DTSTART;TZID=America/New_York:20200610T140000
DTEND;TZID=America/New_York:20200610T153000
DTSTAMP:20260424T093050
CREATED:20200606T200713Z
LAST-MODIFIED:20200606T200713Z
UID:26784-1591797600-1591803000@boltonhillmd.org
SUMMARY:Unity@Park Ave. Community Input Session #1
DESCRIPTION:A new effort is underway to paint murals on the row house walls at Park and North facing Reservoir Hill.  The owners of both buildings very much want to see those walls painted with murals that can help rejuvenate the Park and North intersection and for community members on either side of North Avenue to provide input on their design.  They have selected Baltimore mural artist Ernest Shaw to do the painting and for Baltimore-based mural management company (Mural Masters) to manage the project.  Ernest is putting together some sketches with the theme of Community and Unity for the community to respond to through two input sessions.\n \nThe first will be a virtual Zoom session where the draft design will be shared\, and attendees will be able to provide input then and over the next couple weeks on a designated website for the murals.  After incorporating community input\, another draft design will be shared at the second session about a month later for another round of input.  Depending on the permissibility of public gatherings\, the second session may be in person on site\, with the continued ability to provide input on the website.  Please register in advance for both sessions\, and those who register for the second session will be notified if it is held in person.\n \nUnity@Park Ave.\nCommunity Input Session #1\nWednesday\, June 10\, 2020\n6 p.m.\nRegister here:  https://us02web.zoom.us/meeting/register/tZ0qdeGrqj8qGNcq_DNSuYmlg1m_qJ8kBwtD\n
URL:https://boltonhillmd.org/event/unitypark-ave-community-input-session-1/
ATTACH;FMTTYPE=image/jpeg:https://boltonhillmd.org/wp-content/uploads/2020/06/Image-48.jpg
END:VEVENT
END:VCALENDAR