BEGIN:VCALENDAR
VERSION:2.0
PRODID:-//Bolton Hill - ECPv4.9.13//NONSGML v1.0//EN
CALSCALE:GREGORIAN
METHOD:PUBLISH
X-WR-CALNAME:Bolton Hill
X-ORIGINAL-URL:https://boltonhillmd.org
X-WR-CALDESC:Events for Bolton Hill
BEGIN:VTIMEZONE
TZID:America/New_York
BEGIN:DAYLIGHT
TZOFFSETFROM:-0500
TZOFFSETTO:-0400
TZNAME:EDT
DTSTART:20200308T070000
END:DAYLIGHT
BEGIN:STANDARD
TZOFFSETFROM:-0400
TZOFFSETTO:-0500
TZNAME:EST
DTSTART:20201101T060000
END:STANDARD
END:VTIMEZONE
BEGIN:VEVENT
DTSTART;TZID=America/New_York:20200229T040000
DTEND;TZID=America/New_York:20200229T070000
DTSTAMP:20260423T094417
CREATED:20200201T005656Z
LAST-MODIFIED:20200211T184143Z
UID:26152-1582948800-1582959600@boltonhillmd.org
SUMMARY:Volunteer Tree Pruning
DESCRIPTION:We’ll partner with Midtown Benefits District\, whose crew will help with the pruning and bring the tools for volunteers. The City and Midtown can’t keep all the trees well pruned themselves\, so that’s where volunteers can become actively involved in maintaining neighborhood trees. No experience necessary—just bring some gloves!  Meet at Fitzgerald Park. \n
URL:https://boltonhillmd.org/event/volunteer-tree-pruning/
LOCATION:Fitzgerald Park\, Bolton and Wilson\, Baltimore\, MD\, 21217\, United States
ATTACH;FMTTYPE=image/jpeg:https://boltonhillmd.org/wp-content/uploads/2020/01/IMG_2515-rotated.jpg
GEO:39.3085056;-76.6278791
X-APPLE-STRUCTURED-LOCATION;VALUE=URI;X-ADDRESS=Fitzgerald Park Bolton and Wilson Baltimore MD 21217 United States;X-APPLE-RADIUS=500;X-TITLE=Bolton and Wilson:geo:-76.6278791,39.3085056
END:VEVENT
END:VCALENDAR