BEGIN:VCALENDAR
VERSION:2.0
PRODID:-//Bolton Hill - ECPv4.9.13//NONSGML v1.0//EN
CALSCALE:GREGORIAN
METHOD:PUBLISH
X-WR-CALNAME:Bolton Hill
X-ORIGINAL-URL:https://boltonhillmd.org
X-WR-CALDESC:Events for Bolton Hill
BEGIN:VTIMEZONE
TZID:America/New_York
BEGIN:DAYLIGHT
TZOFFSETFROM:-0500
TZOFFSETTO:-0400
TZNAME:EDT
DTSTART:20230312T070000
END:DAYLIGHT
BEGIN:STANDARD
TZOFFSETFROM:-0400
TZOFFSETTO:-0500
TZNAME:EST
DTSTART:20231105T060000
END:STANDARD
END:VTIMEZONE
BEGIN:VEVENT
DTSTART;TZID=America/New_York:20230202T123000
DTEND;TZID=America/New_York:20230202T140000
DTSTAMP:20260422T182237
CREATED:20230123T224213Z
LAST-MODIFIED:20230123T224213Z
UID:30792-1675341000-1675346400@boltonhillmd.org
SUMMARY:We Our Us
DESCRIPTION:Come hear about the Baltimore non-profit We Our Us\, whose vision statement is:  “We\, Our\, Us — the movement — is a vision of men from Baltimore and the vicinity\, who focus on consistent and collective action to strategically assist people\, especially boys and young men\, in obtaining resources to help guide them to productive pathways and move their goals forward from a unified energy.” \n
URL:https://boltonhillmd.org/event/we-our-us/
LOCATION:Memorial Episcopal\, 1407 Bolton St\, Baltimore\, MD\, 21217\, United States
ATTACH;FMTTYPE=image/jpeg:https://boltonhillmd.org/wp-content/uploads/2023/01/wou-cover.jpg
GEO:39.3064664;-76.6249529
X-APPLE-STRUCTURED-LOCATION;VALUE=URI;X-ADDRESS=Memorial Episcopal 1407 Bolton St Baltimore MD 21217 United States;X-APPLE-RADIUS=500;X-TITLE=1407 Bolton St:geo:-76.6249529,39.3064664
END:VEVENT
END:VCALENDAR